BEGIN:VCALENDAR
VERSION:2.0
PRODID:-//wp-events-plugin.com//7.2.3.1//EN
BEGIN:VEVENT
UID:55@suegenest.ca
DTSTART;TZID=America/Winnipeg:20210608T090000
DTEND;TZID=America/Winnipeg:20210718T170000
DTSTAMP:20210719T194601Z
URL:https://www.suegenest.ca/events/1-online-9-or-11-day-comprehensive-emd
 ria-therapy-training-june-3-2021-central-time/
SUMMARY:ONLINE 15\, 16\, or 18 Day Comprehensive EMDRIA Therapy Training: J
 une 3\, 2021 Central Time
DESCRIPTION:Welcome to the course that changes lives!\nThis training is now
  Full. Please look at Sept. and Nov. start dates. \n\nAll consultation is
  included in the cost of this course + manual + pre study + hundreds of re
 sources in the extended package.\n\nThis course is scheduled in Central ti
 me (CT or Winnipeg time zone)(PT is 2hrs earlier)\nNot just the basic cont
 ent\; Opportunity to Integrate what you Learn into your Practice!\n3 Tier 
 Training Option:\n\n 	15 days (8 core days + 7 day Pre Study) - Days 1-8 
 + 4 practica + Demo Videos of Protocols + 10hrs of Consultation (116 Credi
 t Hours). Designed for students\, Non-profit therapists\; and all others 
 needing financially accessible option to superior programming.\n 	16 days
  (9 core days + 7 day Pre Study) - Days 1-9 + 5 practica + Demo Videos of
  Protocols + Extended Package + 10+ hours of Consultation (124 Credit Hour
 s)\n 	18 days (11 core days + 7 day Pre study) - Days 1-11 + 5 practica +
  Demo Videos of Protocols + Extended Package + 2 days of Extra Protocols +
  10+ hours of Consultation (140 Credit Hours)\n\nTier 1 Basic: $1813.50 
 + tax (116 Credit Hours)\nTier 2 Comprehensive: $2323.14 + tax (124 Cred
 it Hours)\nTier 3 Advanced Comprehensive: $2510 + tax (140 Credit Hours)
 \nSee break down of costs below + payment plan information\n\nChoose Canad
 ian\,\nChoose Quality\,\nChoose Passion in presentation\nChoose Expertise 
 and care in mentoring consultation we offer.\nSuperior Comprehensive Progr
 amming unlike any training.\n\n\nAll tiers of this course far exceed the E
 MDRIA basic requirements set for EMDR Basic Therapy training. Sue provides
  more value than any basic training you'll find in the world.\n\n\nWe take
  into account "Zoom fatigue" thus divide the course into sessions across a
  few months to allow enhanced integration of material for online learning.
 \n\n\n\n\nExtended Package\n\nAdditionally\, you will not find a training 
 anywhere in the world that exceeds the extended package Sue offers. You wi
 ll gain access to thousands of resources at a tremendous value. Sue provi
 des a wealth of clinical and EMDR resources:\n\n- 17 years of Extensive Cl
 inical and EMDR supplemental resources\n- Unique Course material not found
  anywhere in the world\n- Protocols addressing many areas of clinical prac
 tice\n- Protocols in several languages.\n- Over 10\,000 Case posts and ans
 wers.\n- Recorded lectures for review\n- Demo Videos of Protocols\n- Guide
 lines and Strategies for Online EMDR\n\n\nConsultation included by Expert 
 Consultants\n\n\nManual Included\n\nExclusive Facebook pages\n\n\nSue brin
 gs years of expertise in EMDR\, Teaching\, Mental Health\, Somatic Therapy
 \, Attachment\, Trauma\, Dissociation\, and Ego State Therapy. Sue has bee
 n doing EMDR online for 10 years and integrates this material into the tra
 ining.\n\nSue provides you with her time and direct contact to address you
 r needs and to make the training accessible and welcoming.\n\n\nTestimonia
 ls:\n"Can I just say again how grateful I am for the incredible foundation
 al training you gave me. 90% of my practice is EMDR now and I’m confiden
 t in what I’m doing because I know that you taught it to me the way it
 ’s supposed to be done. I see and hear some stuff online that really mak
 es me shake my head. I’m glad I learned from a “purist”\, if that’
 s what it would be called. I follow the protocol exactly how you taught us
  and demonstrated to us and man\, does it work. :)  Anyway\, I’m very t
 hankful!"  Former Trainee email received Oct. 2020\n"Thank you for bringi
 ng EMDR to my practice. I am finding it is a game-changer with clients.”
  Dec. 2020\n\n"Thanks\, Sue for a wonderful day of learning. I’m very th
 ankful to have taken this course immediately after basic training so that 
 I can be effective in my work with clients." January 2021\n\n 	Appreciated
  how approachable you are. Your encouragement and continual check ins made
  it possible for me to ask questions.\n 	You seem to anticipate what quest
 ions/stuck points we might have at certain points in the training and ment
 ioned some possible questions and this normalized the learning and prompte
 d some questions for me and others\n 	I appreciate the repeat messaging ab
 out trusting the system but also the importance of strong clinical skills 
 and knowledge and experience and decision making\n 	Strengths based respec
 tful discussions of people and their concerns\n 	Great handouts. You are v
 ery generous with materials."\n\nJanuary 2021\n\n"Sue herself is a master 
 at EMDR and holding space for the client. Her teaching is practical\, rele
 vant\, and well thought out." January 2021\nOnline Course Program:\n7 Day 
 Pre Study Course: access 1 month before training and throughout sessions.\
 n\nDay 1: Meet &amp\; Greet - June 3rd 9-12pm Central Time (optional)\nMee
 t the trainer in a casual setting online\; meet other trainees\; and test 
 out your online Zoom computer skills while also learning EMDR virtual skil
 ls. This time is highly recommended for those trainees who are very uncomf
 ortable with computers and need to prepare for doing a course 100% online.
  It also gives a foundation for course material presented online.\n\nFeedb
 ack by Trainee on Meet n Greet: "the small group (break-out) connections t
 hat Sue facilitated were really helpful. I have some sense of the experien
 ce of course-mates and am looking forward to learning together. Seeing how
  Sue facilitated this on-line was inspiring and I hope to learn more about
  on-line work (the technical parts) as well as processing course content."
  Jan. 2021\n\nDay 2: EMDR Course Introduction - June 10\, 9-4pm CT OR Jun
 e 21st 9-4pm CT (You may choose either day to attend)\nDay 3 &amp\; 4: EM
 DR Phases 1-2 + Practica: June 22-23\, 9-5pm CT\nDay 5\, 6\, 7: EMDR Pha
 ses 3-6 + Practica: Sept 14-16\, 9-5pm CT\nDay 8 &amp\; 9: Special Popula
 tions + Practica: Nov. 3-4\, 9-5pm CT\n+ Mandatory Consultation Days: Jul
 y 22nd 11-2pm CT\; Nov. 4th afternoon 3hrs (2-5pm CT)\; October 15th 4hr 
 consult (9-1pm CT)\; December 10th 4hr consult (9-1pm CT) + Extra Consult
 ation can be sought from Sue's online forum.\n\nCase write ups and consult
 ation are required between each training session. Deadlines and details wi
 ll be posted on your personal dashboard once you are entered into the trai
 ning site one month less a day before the training starts.\n\nDays 1-8 wil
 l contain all practica required to complete EMDRIA Approved Basic Training
 .\n\nDay 10-11: Comprehensive Days:\nOctober 1\, 9-4pm (Day 1) (Eastern t
 ime)\nDecember 1\,  9-4pm (Day 2) (Central time)\n\n***More practica days
  may be added to accommodate a larger group size.\n\n&nbsp\;\nEMDRIA requi
 res that all trainees are visually present the entire training to receive 
 a Certificate of Completion. If you miss ANY components of the training in
 cluding 15min. of a day to the entire day\; etc. you will need to register
  for a future training at full cost to complete as you will be taking a sp
 ot away from someone else who could have attended that training.\nThis tra
 ining from start to finish must be complete within one year from the start
 ing date.\n&nbsp\;\n\nWhy take a training broken up over time?\n\nPaced Le
 arning enhances integration of material &amp\; practice with clients.\n\nL
 earning the content over time allows you to practice each component with c
 lients versus learning all the content at once and being launched into the
  world without follow up or time to integrate each component. Sue's model 
 aligns with learning theory and Zoom fatigue to bring you the best learnin
 g format possible. Trainees have commented that this model has been best f
 or integrating the EMDR Basic Training content. Additionally\, learning or
  counselling online can be fatiguing and thus spanning the content over ti
 me reduces fatigue and increases learning integration.\nCanadian EMDRIA In
 structor: \nSue Genest\, BA Hons.\, MSc. CCC. RCC. is a certified EMDR th
 erapist\, EMDRIA Approved Consultant and EMDR Training Provider. She has b
 een working in health care for over 33 years\; 18 + years in Somatic Thera
 py\; and 17 years in EMDR. She has also worked online with clients and con
 sultees for ten years.\n\nShe has specialized in trauma work using EMDR\, 
 Hakomi body psychotherapy\, and various methods to address the whole perso
 n (Ego State Therapy\; Many EMDR Advanced trainings\; CBT\, DBT\, Narrativ
 e\, Solution Focused\, Sensoritmotor\, Theraplay\, etc. + Shamanism\, Indi
 genous teachings\, Mindfulness\, etc.). She works with individuals and gro
 ups addressing trauma (e.g. abuse\, car accidents)\, addictions\, grief\, 
 anxiety\, stress\, depression\, self-esteem\, health\, and relationship is
 sues. She has worked with the following populations: individuals strugglin
 g with various mental health issues (e.g. PTSD\, Depression\, Bipolar\, Sc
 hizophrenia)\, individuals with varying disabilities\; minorities (e.g. Ab
 original\, LGBTQ2SI+\, immigrants)\, correctional offenders (e.g. Childhoo
 d trauma\, personality disorders\, military trauma)\; cancer patients\, ge
 neral public\, student populations\, and corporate professionals (E.g. EnC
 ana\, Enmax).\n\nShe is a Canadian Certified Counsellor and Registered Cli
 nical Counsellor in BC. She graduated from The University of Calgary with 
 her 1st class Honors BA in Psychology and her Master of Science degree in 
 Counselling Psychology. She has won numerous awards for her academic work 
 and taught several classes at Universities including counselling skills\, 
 lifespan development\; mind/body/spirit medicine\; qualitative research\; 
 and sexuality. She has publications and presentations in the area of couns
 elling\, EMDR\, pediatrics\, qualitative research\, and sexuality.\n\nSue 
 teaches EMDR Basic trainings across Canada and EMDR Advanced around the wo
 rld.\n\nEMDR Advanced trainings: EMDR Refresher\; EMDR &amp\; Mind Mapping
 : Making the Complex Simple\; EMDR Common Stuck Points\; EMDR Addictions G
 oal State &amp\; Sue's FSAP\; EMDR And Somatic Therapy\; Mastering the Flo
 at Back\; and Sue's BookEnd Protocol ©\nOnline Course Program Content:\n
 7 Day Pre - Study \nThe online pre study course link will be sent to you a
 fter you have registered and paid for the course.\n\nPre-Study Day 1: Trau
 ma Informed Care\nPre-Study Day 2: EMDR &amp\; EMDR Research\nPre-Study Da
 y 3: Psychometrics &amp\; History Taking &amp\; Treatment Planning\nPre-St
 udy Day 4: EMDR Resources\nPre-Study Day 5: Resources for Client Self-Regu
 lation\nPre Study Day 6: Setting up for Virtual training and practica\nPre
 -Study Day 7: EMDR Cultural Competence &amp\; Learning about Microaggress
 ions\n\nDay 1: Meet n Greet\n\n\n\nMeet the trainer in a casual setting on
 line\;\nMeet other trainees &amp\; build foundational relationships for pe
 er consultation\;\nTest out your online Zoom computer skills\;\nLearning E
 MDR virtual skills.\n\n\n\n\nThis time is highly recommended for those tra
 inees who are very uncomfortable with computers and need to prepare for do
 ing a course 100% online.\n\n\nDay 2: Pre-Training Introduction \nIntroduc
 tion to the trainer.\nOverview of the training\; pre-study\; online forum 
 resources\; consultation needed\nHow to prepare your clients for EMDR\; an
 d\nIntroduction to EMDR.\nDays 3 - 8/9: 8 Phases +\n8 Phases of EMDR inclu
 ding Sue's Unique approach to teaching float back\n\nTheoretical explanati
 ons for EMDR\; accelerated information processing\; alternate explanations
 \n\nUnderstand legal and ethical considerations in the use of EMDR\n\nPsyc
 hology of trauma\; diagnosis of Posttraumatic Stress Disorder\; Signs of C
 omplex Trauma and Dissociative Disorders\n\nHistory Taking and Psychometri
 cs\n\nTreatment planning &amp\; Case Conceptualization\n\nPreparation of C
 lients for trauma processing: self-soothing\, shifting state\, and affect 
 acceptance strategies\n\nEffective and Safe EMDR work\n\nBlocking Strategi
 es &amp\; Cognitive / Somatic Interweaves\n\nCommon Stuck Points of EMDR P
 ractitioners\n\nIntroduction to EMDR with Complex Trauma e.g. titration\, 
 advanced trainings\, etc.\n\nAdapting EMDR for Special Populations: Childr
 en\, self-use\, couples\, illness &amp\; dying\, grief\, victims of crime 
 &amp\; accidents\, pain\, phobia.\n\nSpecialty Protocols: Reverse &amp\; R
 ecent Events protocols\; DeTUR Addictions protocol\nPractica &amp\; Consul
 tation\nIncluded in the above days (5-9) + consultation dates listed above
 \n\nProvided by Expert Consultants with specialities in: Children\, Youth\
 , Adults\, Indigenous\, LGBTQ2SI+ populations\; Addictions\; Domestic Viol
 ence\; Complex Trauma\; Trauma\; Dissociation\; Ego State Therapy\; etc.\n
 Course Options &amp\; Costs:\n3 Tier Training Option:\n\n 	15 days (8 cor
 e days + 7 day Pre Study) - Days 1-8 + 4 practica + Demo Videos of Protoco
 ls + 10hrs of Consultation (116 Credit Hours)\n 	16 days (9 core days + 7
  day Pre Study) - Days 1-9 + 5 practica + Demo Videos of Protocols + Exten
 ded Package + 10+ hours of Consultation (124 Credit Hours)\n 	18 days (11
  core days + 7 day Pre study) - Days 1-11 + 5 practica + Demo Videos of Pr
 otocols + Extended Package + 2 days of Extra Protocols + 10+ hours of Cons
 ultation (140 Credit Hours)\n\nTier 1 Basic: $1813.50 + tax (116 Credit 
 Hours)\nTier 2 Comprehensive: $2323.14 + tax (124 Credit Hours)\nTier 3 
 Advanced Comprehensive: $2510 + tax (140 Credit Hours)\n\nTier 1: 15 day
 s total = $1813.50 Cdn. + tax ($1950) or 2 payments of $1000. $1000 to r
 egister\; $1000 no later than a month from the start of training. Contact 
 Sue directly for payment plan - Etransfer to info@suegenest.ca. Tier 1 en
 compasses a reduction in cost for students and non profit agency therapis
 ts and those who wish to complete the EMDR training with financial restri
 ctions. No proof is required. Students must have supervisors signed agreem
 ent to practice EMDR with clients. Contact Sue Genest for documents.\n\nTi
 er 2: 16 days total + extended package = $2323.14 Cdn. + tax ($2498) or 2
  payments of $1300. Contact Sue directly for payment plan - Etransfer to i
 nfo@suegenest.ca.\n\nTier 3: 18 days total + extended package + 2 Comprehe
 nsive days = $2510 Cdn. + tax ($2698) or 2 payments of $1400. Contact Sue
  directly for payment plan - Etransfer to info@suegenest.ca\n\nThis course
  is in Central Time &amp\; Canadian dollars\n\nAdvanced Comprehensive Cour
 se - Tier 3 - with 2 extra days is includes advanced protocols\; consultat
 ion\, and review and practice of course material.\n\n$600 Non refundable d
 eposit applies to all payments made for this training (embedded in full pa
 yments).\n\n\nWithin one month of the training no refunds or transfer of f
 unds will be issued for any reason. \n\n\n\n\nThis training from start to
  finish must be complete within one year from the starting date.\n\nRefund
  /Cancellation Policy:\n\n\n$600 Non refundable deposit applies to all pay
 ments made for this training (embedded in full payments).\n\n\n\n\nNo ref
 unds or transfer of funds will be issued within one month of the starting 
 date of training\, i.e. If cancellation happens within a month of the trai
 ning\, no refund or transfer will be issued.\n\n\n\n\nThis training from s
 tart to finish must be complete within one year from the starting date.\n\
 n\n\n\nWhen you register for this training you acknowledge and agree to al
 l course policies.\n\n\n\n\nA $600 CAD non-refundable deposit is required 
 for registration and embedded in the total cost. This $600 non-refundable 
 deposit can be applied to future basic trainings if cancellation is more t
 han a month from the start of the training. Transfer of funds will be allo
 wed once only and must be used within one year of initial purchase.\n\n\n\
 n\nRefunds will not be provided if you are unable to make your computer or
  wifi work for training days or you are interrupted by family or work or c
 hoose not to complete the training.\n\n\n\n\nRefunds nor transfer of funds
  will also not be provided if you violate the policies\, e.g. are disrupti
 ve in the training and are asked to leave.\n\n\n\n\nThere will be no refun
 ds\, under any circumstances\, for withdrawals after the beginning of the 
 training program.\n\n\n\n\nAll course components must be attended in full 
 to meet EMDRIA standards. To not attend any part of the training\, will nu
 llify the certificate of completion and will be at the cost of the trainee
  to take the training at another scheduled time. No refunds will be issued
 . All other situations will be handled on a case-by-case basis.\n\n\n\n\nA
 ll diversity of humanity is welcome in this training. Discrimination\, rac
 ism\, oppression\, harassment\, or any other disruption or unprofessional 
 behavior will not be tolerated. You are expected to adhere to the Canadian
  Charter of Rights and Freedoms and your Association/ Colleges Ethical and
  Professional Standards of Conduct. If you experience any of these oppress
 ive situations in the training\, please contact Sue Genest immediately.\n\
 n\n\n\nGrievances and any concerns related to the course\, safety\, and pa
 rticipation can be directed to Sue Genest\, Course trainer at which time s
 he will address your concern directly.\n\n\n\n\n&nbsp\;\n\n\n\n\n\nI\, Sue
  Genest\, invite all those who have experienced oppression\, discriminatio
 n\, sexism\, racism\, gender and orientation phobias in their lives\, and 
 wish to talk about the structure or experience in this EMDR training\, to 
 contact me directly at info@suegenest.ca. I acknowledge that EMDR was deve
 loped within a dominant culture world and researched as such. Although man
 y are working to add culturally competent components and understanding\, I
  recognize it might not meet all your needs and your valuable perspective 
 is welcomed. If you wish to discuss your perspective or experience I welco
 me you to contact me at info@suegenest.ca. Additionally\, if you experienc
 e micro aggressions or anything short of celebrating the diversity of peop
 le\, please contact Sue immediately.\n\nImportant Notes on PRACTICA and Tr
 aining Content:\n\nAs this training deals with basic training content of E
 MDR keep these things in mind:\n\n1) You will need clients to practice wha
 t you are learning. You need clientele who are NOT dealing with complex tr
 auma and dissociation. If you do not have clients\, you will be unable to 
 complete the training. Consider contacting an EMDR therapist in your area 
 to arrange for pro bono or sliding fee scale of non complex clients to pra
 ctice. We are very fortunate in the EMDR community to be able to take all 
 kinds of advanced trainings on how to use EMDR with complex cases and spec
 ialty populations once done the basic training. An introduction to this ma
 terial will be provided in the training. Think of it like taking your firs
 t hypnosis course… you wouldn’t expect to practice your new skills on 
 the most complex of cases in your practice. EMDR is a very different skill
  set than what you might be used to\, so be sure you have clients you can 
 practice with. I would suggest at least 10 + clients for the best integrat
 ion of material and 8 as the minimum to complete consultation. Of course\,
  the more you practice the better your integration of the material.\n\n2) 
 Some of the content of the course and practica can be triggering to clinic
 ians with unresolved childhood trauma\; dissociative disorders\, and those
  who have never done counselling before esp. EMDR. You will find it really
  helpful for your learning to seek out an EMDR therapist in your area to t
 ry out a few sessions to see what it is like. It will be imperative you ca
 n self-regulate in practica\, i.e. shift states\, self sooth\, and have af
 fect acceptance (know how to work with your own emotions in positive ways)
 . You might consider some of my team to support your learning and personal
  development. We know as EMDR experts that doing our own personal work adv
 ances our attunement\, integration of material\, and artfulness using EMDR
  with our clients.\n\n\n\n\n\nThis is a comprehensive training that will r
 equire your focus and time to practice between sessions.\n\nIn order to cr
 eate a therapeutic environment for others in practica and for your self\, 
 consider these tips:\n\n- respect\, kindness\, empathy are required in tra
 ining practica in the same way you would expect in therapy. Respect for yo
 ur colleagues\, facilitators\, and trainer are required. To do otherwise w
 ill risk the completion of your training. Those who are discriminatory or 
 disruptive will be asked to leave the training without refund. All diversi
 ty of humanity is welcome in this training.\n\n- Get prior support from su
 pervisors and/or agencies to practice EMDR therapy between sessions.\n\n-
  Start preparing your clients for EMDR by teaching them self regulation s
 kills\; how to shift states\, how to self sooth\, and affect acceptance an
 d being with emotion. Time spent building these skills will allow you to d
 eepen into your own learning of EMDR with clients and start reprocessing s
 ooner. If you need to expand your skills in this area to teach clients\, c
 onsider using a DBT exercise book for ideas.\n\n- Put time aside before t
 raining to complete the Pre Study. It is essential that you understand tra
 uma and dissociation to apply EMDR and have basic clinical skills such as 
 using a wide variety of history taking approaches and psychometrics for de
 termining if your client has experienced complex trauma and has a dissocia
 tive structure.\n\n- Put time aside between training sessions to practice
  EMDR and to complete the consultation portion of your training.\n\n&nbsp\
 ;\n\nI look forward to meeting you at the Online LIVE EMDR Basic Training.
  The Meet n Greet to casually get to know your instructor and colleagues w
 hile also learning how to work with bilateral stimulation online via zoom 
 will be covered. Zoom Link will be in your Auto email after registration.\
 n\n\nTo understand Time Zone changes google to ensure you get the right ti
 me for training. This training is in CT or Winnipeg time zone which is 2hr
 s later than PT.\n\n
CATEGORIES:EMDR Basic Therapy Training
END:VEVENT
BEGIN:VTIMEZONE
TZID:America/Winnipeg
X-LIC-LOCATION:America/Winnipeg
BEGIN:DAYLIGHT
DTSTART:20210314T030000
TZOFFSETFROM:-0600
TZOFFSETTO:-0500
TZNAME:CDT
END:DAYLIGHT
END:VTIMEZONE
END:VCALENDAR